BEGIN:VCALENDAR
VERSION:2.0
PRODID:-//Calgary &amp; District Labour Council - ECPv6.15.20//NONSGML v1.0//EN
CALSCALE:GREGORIAN
METHOD:PUBLISH
X-WR-CALNAME:Calgary &amp; District Labour Council
X-ORIGINAL-URL:https://thecdlc.ca
X-WR-CALDESC:Events for Calgary &amp; District Labour Council
REFRESH-INTERVAL;VALUE=DURATION:PT1H
X-Robots-Tag:noindex
X-PUBLISHED-TTL:PT1H
BEGIN:VTIMEZONE
TZID:UTC
BEGIN:STANDARD
TZOFFSETFROM:+0000
TZOFFSETTO:+0000
TZNAME:UTC
DTSTART:20230101T000000
END:STANDARD
END:VTIMEZONE
BEGIN:VEVENT
DTSTART;TZID=UTC:20240302T090000
DTEND;TZID=UTC:20240302T170000
DTSTAMP:20260419T220945
CREATED:20240115T194009Z
LAST-MODIFIED:20240221T174802Z
UID:26271-1709370000-1709398800@thecdlc.ca
SUMMARY:Shop Steward Level 1 Course *CANCELLED
DESCRIPTION:
URL:https://thecdlc.ca/event/shop-steward-level-1-course-in-person/
END:VEVENT
BEGIN:VEVENT
DTSTART;TZID=UTC:20240304T190000
DTEND;TZID=UTC:20240304T203000
DTSTAMP:20260419T220945
CREATED:20240115T195028Z
LAST-MODIFIED:20240115T195028Z
UID:26292-1709578800-1709584200@thecdlc.ca
SUMMARY:Exec Mtg. via Zoom 7 pm
DESCRIPTION:
URL:https://thecdlc.ca/event/exec-mtg-via-zoom-7-pm/
END:VEVENT
BEGIN:VEVENT
DTSTART;TZID=UTC:20240306T080000
DTEND;TZID=UTC:20240306T170000
DTSTAMP:20260419T220945
CREATED:20240115T194144Z
LAST-MODIFIED:20240115T194144Z
UID:26274-1709712000-1709744400@thecdlc.ca
SUMMARY:Virtual Mental Health First Aid Course
DESCRIPTION:
URL:https://thecdlc.ca/event/virtual-mental-health-first-aid-course/
END:VEVENT
BEGIN:VEVENT
DTSTART;TZID=UTC:20240318T190000
DTEND;TZID=UTC:20240318T210000
DTSTAMP:20260419T220945
CREATED:20240115T195117Z
LAST-MODIFIED:20240115T195117Z
UID:26294-1710788400-1710795600@thecdlc.ca
SUMMARY:Membership Mtg. 7 pm via Zoom
DESCRIPTION:
URL:https://thecdlc.ca/event/membership-mtg-7-pm-via-zoom/
END:VEVENT
END:VCALENDAR