BEGIN:VCALENDAR
VERSION:2.0
PRODID:-//Calgary &amp; District Labour Council - ECPv6.15.20//NONSGML v1.0//EN
CALSCALE:GREGORIAN
METHOD:PUBLISH
X-ORIGINAL-URL:https://thecdlc.ca
X-WR-CALDESC:Events for Calgary &amp; District Labour Council
REFRESH-INTERVAL;VALUE=DURATION:PT1H
X-Robots-Tag:noindex
X-PUBLISHED-TTL:PT1H
BEGIN:VTIMEZONE
TZID:UTC
BEGIN:STANDARD
TZOFFSETFROM:+0000
TZOFFSETTO:+0000
TZNAME:UTC
DTSTART:20210101T000000
END:STANDARD
END:VTIMEZONE
BEGIN:VEVENT
DTSTART;TZID=UTC:20220305T090000
DTEND;TZID=UTC:20220305T170000
DTSTAMP:20260419T131046
CREATED:20220208T172937Z
LAST-MODIFIED:20220208T173445Z
UID:13493-1646470800-1646499600@thecdlc.ca
SUMMARY:Shop Steward Level 1 Zoom course
DESCRIPTION:
URL:https://thecdlc.ca/event/shop-steward-level-1-zoom-course/
CATEGORIES:Workshops
END:VEVENT
BEGIN:VEVENT
DTSTART;TZID=UTC:20220307T190000
DTEND;TZID=UTC:20220307T210000
DTSTAMP:20260419T131046
CREATED:20220208T173710Z
LAST-MODIFIED:20220208T173710Z
UID:13501-1646679600-1646686800@thecdlc.ca
SUMMARY:Executive Mtg.
DESCRIPTION:
URL:https://thecdlc.ca/event/executive-mtg/
CATEGORIES:Meetings
END:VEVENT
BEGIN:VEVENT
DTSTART;TZID=UTC:20220321T190000
DTEND;TZID=UTC:20220321T210000
DTSTAMP:20260419T131046
CREATED:20220208T174101Z
LAST-MODIFIED:20220208T174101Z
UID:13508-1647889200-1647896400@thecdlc.ca
SUMMARY:Membership Mtg.
DESCRIPTION:
URL:https://thecdlc.ca/event/membership-mtg-9/
CATEGORIES:Meetings
END:VEVENT
END:VCALENDAR