BEGIN:VCALENDAR
VERSION:2.0
PRODID:-//Calgary &amp; District Labour Council - ECPv6.15.20//NONSGML v1.0//EN
CALSCALE:GREGORIAN
METHOD:PUBLISH
X-ORIGINAL-URL:https://thecdlc.ca
X-WR-CALDESC:Events for Calgary &amp; District Labour Council
REFRESH-INTERVAL;VALUE=DURATION:PT1H
X-Robots-Tag:noindex
X-PUBLISHED-TTL:PT1H
BEGIN:VTIMEZONE
TZID:UTC
BEGIN:STANDARD
TZOFFSETFROM:+0000
TZOFFSETTO:+0000
TZNAME:UTC
DTSTART:20200101T000000
END:STANDARD
END:VTIMEZONE
BEGIN:VEVENT
DTSTART;TZID=UTC:20211101T190000
DTEND;TZID=UTC:20211101T203000
DTSTAMP:20260419T191449
CREATED:20210126T190949Z
LAST-MODIFIED:20210126T190949Z
UID:9188-1635793200-1635798600@thecdlc.ca
SUMMARY:Exec. Mtg.
DESCRIPTION:
URL:https://thecdlc.ca/event/exec-mtg-8/
END:VEVENT
BEGIN:VEVENT
DTSTART;TZID=UTC:20211115T190000
DTEND;TZID=UTC:20211115T203000
DTSTAMP:20260419T191449
CREATED:20210126T191033Z
LAST-MODIFIED:20210126T191033Z
UID:9190-1637002800-1637008200@thecdlc.ca
SUMMARY:Membership Mtg.
DESCRIPTION:
URL:https://thecdlc.ca/event/membership-mtg-6/
END:VEVENT
END:VCALENDAR