BEGIN:VCALENDAR
VERSION:2.0
PRODID:-//Calgary &amp; District Labour Council - ECPv6.15.20//NONSGML v1.0//EN
CALSCALE:GREGORIAN
METHOD:PUBLISH
X-WR-CALNAME:Calgary &amp; District Labour Council
X-ORIGINAL-URL:https://thecdlc.ca
X-WR-CALDESC:Events for Calgary &amp; District Labour Council
REFRESH-INTERVAL;VALUE=DURATION:PT1H
X-Robots-Tag:noindex
X-PUBLISHED-TTL:PT1H
BEGIN:VTIMEZONE
TZID:UTC
BEGIN:STANDARD
TZOFFSETFROM:+0000
TZOFFSETTO:+0000
TZNAME:UTC
DTSTART:20200101T000000
END:STANDARD
END:VTIMEZONE
BEGIN:VEVENT
DTSTART;TZID=UTC:20210913T190000
DTEND;TZID=UTC:20210913T203000
DTSTAMP:20260419T223456
CREATED:20210126T190631Z
LAST-MODIFIED:20210126T190646Z
UID:9182-1631559600-1631565000@thecdlc.ca
SUMMARY:Exec. Mtg.
DESCRIPTION:
URL:https://thecdlc.ca/event/exec-mtg-6/
END:VEVENT
BEGIN:VEVENT
DTSTART;TZID=UTC:20210918T090000
DTEND;TZID=UTC:20210918T170000
DTSTAMP:20260419T223456
CREATED:20210126T191253Z
LAST-MODIFIED:20210126T191253Z
UID:9196-1631955600-1631984400@thecdlc.ca
SUMMARY:Shop Steward Level 2
DESCRIPTION:
URL:https://thecdlc.ca/event/shop-steward-level-2/
END:VEVENT
BEGIN:VEVENT
DTSTART;TZID=UTC:20210920T190000
DTEND;TZID=UTC:20210920T203000
DTSTAMP:20260419T223456
CREATED:20210126T192031Z
LAST-MODIFIED:20210914T171930Z
UID:9202-1632164400-1632169800@thecdlc.ca
SUMMARY:Membership Mtg.*changed to Sept.27
DESCRIPTION:
URL:https://thecdlc.ca/event/membership-mtg-7/
END:VEVENT
BEGIN:VEVENT
DTSTART;TZID=UTC:20210927T190000
DTEND;TZID=UTC:20210927T210000
DTSTAMP:20260419T223456
CREATED:20210914T171604Z
LAST-MODIFIED:20210914T171604Z
UID:11892-1632769200-1632776400@thecdlc.ca
SUMMARY:CHANGED* Membership meeting
DESCRIPTION:
URL:https://thecdlc.ca/event/changed-membership-meeting/
END:VEVENT
END:VCALENDAR