BEGIN:VCALENDAR
VERSION:2.0
PRODID:-//Calgary &amp; District Labour Council - ECPv6.15.20//NONSGML v1.0//EN
CALSCALE:GREGORIAN
METHOD:PUBLISH
X-WR-CALNAME:Calgary &amp; District Labour Council
X-ORIGINAL-URL:https://thecdlc.ca
X-WR-CALDESC:Events for Calgary &amp; District Labour Council
REFRESH-INTERVAL;VALUE=DURATION:PT1H
X-Robots-Tag:noindex
X-PUBLISHED-TTL:PT1H
BEGIN:VTIMEZONE
TZID:UTC
BEGIN:STANDARD
TZOFFSETFROM:+0000
TZOFFSETTO:+0000
TZNAME:UTC
DTSTART:20190101T000000
END:STANDARD
END:VTIMEZONE
BEGIN:VEVENT
DTSTART;TZID=UTC:20200406T190000
DTEND;TZID=UTC:20200406T210000
DTSTAMP:20260421T020659
CREATED:20200224T215703Z
LAST-MODIFIED:20200224T215703Z
UID:3415-1586199600-1586206800@thecdlc.ca
SUMMARY:Exec. Meeting
DESCRIPTION:
URL:https://thecdlc.ca/event/exec-meeting/
END:VEVENT
BEGIN:VEVENT
DTSTART;TZID=UTC:20200416T120000
DTEND;TZID=UTC:20200416T133000
DTSTAMP:20260421T020659
CREATED:20200415T190014Z
LAST-MODIFIED:20200415T190014Z
UID:4324-1587038400-1587043800@thecdlc.ca
SUMMARY:Covid-19 Workers Rights-Zoom Webinar
DESCRIPTION:
URL:https://thecdlc.ca/event/covid-19-workers-rights-zoom-webinar/
END:VEVENT
BEGIN:VEVENT
DTSTART;TZID=UTC:20200416T170000
DTEND;TZID=UTC:20200416T183000
DTSTAMP:20260421T020659
CREATED:20200415T190158Z
LAST-MODIFIED:20200415T190158Z
UID:4326-1587056400-1587061800@thecdlc.ca
SUMMARY:Covid-19 Workers Rights -Zoom Webinar
DESCRIPTION:
URL:https://thecdlc.ca/event/covid-19-workers-rights-zoom-webinar-2/
END:VEVENT
BEGIN:VEVENT
DTSTART;TZID=UTC:20200420T190000
DTEND;TZID=UTC:20200420T210000
DTSTAMP:20260421T020659
CREATED:20200224T215744Z
LAST-MODIFIED:20200415T185720Z
UID:3417-1587409200-1587416400@thecdlc.ca
SUMMARY:Membership Meeting via ZOOM
DESCRIPTION:
URL:https://thecdlc.ca/event/membership-meeting-4/
END:VEVENT
BEGIN:VEVENT
DTSTART;TZID=UTC:20200428T120000
DTEND;TZID=UTC:20200428T130000
DTSTAMP:20260421T020659
CREATED:20200224T221855Z
LAST-MODIFIED:20200224T221902Z
UID:3447-1588075200-1588078800@thecdlc.ca
SUMMARY:Apr.28 Day of Mourning Ceremony
DESCRIPTION:
URL:https://thecdlc.ca/event/apr-28-day-of-mourning-ceremony/
CATEGORIES:Event
END:VEVENT
BEGIN:VEVENT
DTSTART;TZID=UTC:20200429T180000
DTEND;TZID=UTC:20200429T190000
DTSTAMP:20260421T020659
CREATED:20200429T181240Z
LAST-MODIFIED:20200429T181251Z
UID:4516-1588183200-1588186800@thecdlc.ca
SUMMARY:Covid-19 Workers Rights-Zoom Webinar
DESCRIPTION:
URL:https://thecdlc.ca/event/covid-19-workers-rights-zoom-webinar-3/
END:VEVENT
END:VCALENDAR