BEGIN:VCALENDAR
VERSION:2.0
PRODID:-//Calgary &amp; District Labour Council - ECPv6.15.20//NONSGML v1.0//EN
CALSCALE:GREGORIAN
METHOD:PUBLISH
X-WR-CALNAME:Calgary &amp; District Labour Council
X-ORIGINAL-URL:https://thecdlc.ca
X-WR-CALDESC:Events for Calgary &amp; District Labour Council
REFRESH-INTERVAL;VALUE=DURATION:PT1H
X-Robots-Tag:noindex
X-PUBLISHED-TTL:PT1H
BEGIN:VTIMEZONE
TZID:UTC
BEGIN:STANDARD
TZOFFSETFROM:+0000
TZOFFSETTO:+0000
TZNAME:UTC
DTSTART:20190101T000000
END:STANDARD
END:VTIMEZONE
BEGIN:VEVENT
DTSTART;TZID=UTC:20200224T190000
DTEND;TZID=UTC:20200224T210000
DTSTAMP:20260421T052629
CREATED:20200224T214423Z
LAST-MODIFIED:20200224T214423Z
UID:3405-1582570800-1582578000@thecdlc.ca
SUMMARY:Membership meeting
DESCRIPTION:
URL:https://thecdlc.ca/event/membership-meeting/
CATEGORIES:Affiliate Events,Meetings
END:VEVENT
BEGIN:VEVENT
DTSTART;TZID=UTC:20200225T170000
DTEND;TZID=UTC:20200225T190000
DTSTAMP:20260421T052629
CREATED:20200224T214725Z
LAST-MODIFIED:20200224T214736Z
UID:3407-1582650000-1582657200@thecdlc.ca
SUMMARY:Letter Writing
DESCRIPTION:
URL:https://thecdlc.ca/event/letter-writing/
CATEGORIES:Affiliate Events,Event,Meetings
END:VEVENT
END:VCALENDAR