BEGIN:VCALENDAR
VERSION:2.0
PRODID:-//Calgary &amp; District Labour Council - ECPv6.15.20//NONSGML v1.0//EN
CALSCALE:GREGORIAN
METHOD:PUBLISH
X-ORIGINAL-URL:https://thecdlc.ca
X-WR-CALDESC:Events for Calgary &amp; District Labour Council
REFRESH-INTERVAL;VALUE=DURATION:PT1H
X-Robots-Tag:noindex
X-PUBLISHED-TTL:PT1H
BEGIN:VTIMEZONE
TZID:UTC
BEGIN:STANDARD
TZOFFSETFROM:+0000
TZOFFSETTO:+0000
TZNAME:UTC
DTSTART:20180101T000000
END:STANDARD
END:VTIMEZONE
BEGIN:VEVENT
DTSTART;TZID=UTC:20191007T190000
DTEND;TZID=UTC:20191007T210000
DTSTAMP:20260421T165615
CREATED:20190205T191825Z
LAST-MODIFIED:20190205T191825Z
UID:2249-1570474800-1570482000@thecdlc.ca
SUMMARY:Executive Committee Mtg.
DESCRIPTION:
URL:https://thecdlc.ca/event/executive-committee-mtg-4/
END:VEVENT
BEGIN:VEVENT
DTSTART;TZID=UTC:20191021T190000
DTEND;TZID=UTC:20191021T203000
DTSTAMP:20260421T165615
CREATED:20181210T191948Z
LAST-MODIFIED:20181210T191948Z
UID:2187-1571684400-1571689800@thecdlc.ca
SUMMARY:General Membership Meeting
DESCRIPTION:
URL:https://thecdlc.ca/event/general-membership-meeting-28/
LOCATION:The CDLC Office\, 321\, 3132 26 ST NE \, Calgary\, Alberta \, T1Y6Z1
CATEGORIES:Meetings
END:VEVENT
END:VCALENDAR