BEGIN:VCALENDAR
VERSION:2.0
PRODID:-//Calgary &amp; District Labour Council - ECPv6.15.20//NONSGML v1.0//EN
CALSCALE:GREGORIAN
METHOD:PUBLISH
X-ORIGINAL-URL:https://thecdlc.ca
X-WR-CALDESC:Events for Calgary &amp; District Labour Council
REFRESH-INTERVAL;VALUE=DURATION:PT1H
X-Robots-Tag:noindex
X-PUBLISHED-TTL:PT1H
BEGIN:VTIMEZONE
TZID:UTC
BEGIN:STANDARD
TZOFFSETFROM:+0000
TZOFFSETTO:+0000
TZNAME:UTC
DTSTART:20180101T000000
END:STANDARD
END:VTIMEZONE
BEGIN:VEVENT
DTSTART;TZID=UTC:20190603T190000
DTEND;TZID=UTC:20190603T210000
DTSTAMP:20260422T015010
CREATED:20190205T190240Z
LAST-MODIFIED:20190205T190240Z
UID:2241-1559588400-1559595600@thecdlc.ca
SUMMARY:Executive Committee Mtg.
DESCRIPTION:
URL:https://thecdlc.ca/event/executive-committee-mtg-2/
END:VEVENT
BEGIN:VEVENT
DTSTART;VALUE=DATE:20190617
DTEND;VALUE=DATE:20190621
DTSTAMP:20260422T015010
CREATED:20190508T193109Z
LAST-MODIFIED:20190508T193132Z
UID:2323-1560729600-1561075199@thecdlc.ca
SUMMARY:CLC Instructor Training - Level 1
DESCRIPTION:CLC Instructor Training-Level 1
URL:https://thecdlc.ca/event/2323/
END:VEVENT
BEGIN:VEVENT
DTSTART;TZID=UTC:20190617T190000
DTEND;TZID=UTC:20190617T210000
DTSTAMP:20260422T015010
CREATED:20190205T190324Z
LAST-MODIFIED:20190205T190324Z
UID:2243-1560798000-1560805200@thecdlc.ca
SUMMARY:Membership Meeting
DESCRIPTION:
URL:https://thecdlc.ca/event/membership-meeting-2/
END:VEVENT
END:VCALENDAR