BEGIN:VCALENDAR
VERSION:2.0
PRODID:-//Calgary &amp; District Labour Council - ECPv6.15.20//NONSGML v1.0//EN
CALSCALE:GREGORIAN
METHOD:PUBLISH
X-WR-CALNAME:Calgary &amp; District Labour Council
X-ORIGINAL-URL:https://thecdlc.ca
X-WR-CALDESC:Events for Calgary &amp; District Labour Council
REFRESH-INTERVAL;VALUE=DURATION:PT1H
X-Robots-Tag:noindex
X-PUBLISHED-TTL:PT1H
BEGIN:VTIMEZONE
TZID:UTC
BEGIN:STANDARD
TZOFFSETFROM:+0000
TZOFFSETTO:+0000
TZNAME:UTC
DTSTART:20180101T000000
END:STANDARD
END:VTIMEZONE
BEGIN:VEVENT
DTSTART;TZID=UTC:20190506T190000
DTEND;TZID=UTC:20190506T210000
DTSTAMP:20260422T032617
CREATED:20190205T185955Z
LAST-MODIFIED:20190205T190037Z
UID:2236-1557169200-1557176400@thecdlc.ca
SUMMARY:Executive Committee Mtg.
DESCRIPTION:
URL:https://thecdlc.ca/event/executive-committee-mtg/
CATEGORIES:Meetings
END:VEVENT
BEGIN:VEVENT
DTSTART;TZID=UTC:20190524T180000
DTEND;TZID=UTC:20190524T210000
DTSTAMP:20260422T032617
CREATED:20190116T230853Z
LAST-MODIFIED:20190116T230853Z
UID:2215-1558720800-1558731600@thecdlc.ca
SUMMARY:Health & Safety Training 6-9pm
DESCRIPTION:Health & Safety Training 6-9 pm
URL:https://thecdlc.ca/event/health-safety-training-6-9pm/
END:VEVENT
BEGIN:VEVENT
DTSTART;TZID=UTC:20190525T090000
DTEND;TZID=UTC:20190525T170000
DTSTAMP:20260422T032617
CREATED:20190116T230959Z
LAST-MODIFIED:20190116T231016Z
UID:2217-1558774800-1558803600@thecdlc.ca
SUMMARY:Health & Safety Training 9am-5pm
DESCRIPTION:Health & Safety Training
URL:https://thecdlc.ca/event/health-safety-training-9am-5pm/
END:VEVENT
BEGIN:VEVENT
DTSTART;TZID=UTC:20190527T190000
DTEND;TZID=UTC:20190527T203000
DTSTAMP:20260422T032617
CREATED:20181210T191103Z
LAST-MODIFIED:20181210T191103Z
UID:2179-1558983600-1558989000@thecdlc.ca
SUMMARY:General Membership Meeting
DESCRIPTION:
URL:https://thecdlc.ca/event/general-membership-meeting-24/
LOCATION:The CDLC Office\, 321\, 3132 26 ST NE \, Calgary\, Alberta \, T1Y6Z1
CATEGORIES:Meetings
END:VEVENT
END:VCALENDAR