BEGIN:VCALENDAR
VERSION:2.0
PRODID:-//Calgary &amp; District Labour Council - ECPv6.15.20//NONSGML v1.0//EN
CALSCALE:GREGORIAN
METHOD:PUBLISH
X-ORIGINAL-URL:https://thecdlc.ca
X-WR-CALDESC:Events for Calgary &amp; District Labour Council
REFRESH-INTERVAL;VALUE=DURATION:PT1H
X-Robots-Tag:noindex
X-PUBLISHED-TTL:PT1H
BEGIN:VTIMEZONE
TZID:UTC
BEGIN:STANDARD
TZOFFSETFROM:+0000
TZOFFSETTO:+0000
TZNAME:UTC
DTSTART:20180101T000000
END:STANDARD
END:VTIMEZONE
BEGIN:VEVENT
DTSTART;TZID=UTC:20190401T190000
DTEND;TZID=UTC:20190401T203000
DTSTAMP:20260422T045504
CREATED:20181210T211548Z
LAST-MODIFIED:20181210T211548Z
UID:2197-1554145200-1554150600@thecdlc.ca
SUMMARY:CDLC Executive Meeting
DESCRIPTION:
URL:https://thecdlc.ca/event/cdlc-executive-meeting-17/
CATEGORIES:Meetings
END:VEVENT
BEGIN:VEVENT
DTSTART;TZID=UTC:20190410T183000
DTEND;TZID=UTC:20190410T200000
DTSTAMP:20260422T045504
CREATED:20190222T180419Z
LAST-MODIFIED:20190222T180505Z
UID:2270-1554921000-1554926400@thecdlc.ca
SUMMARY:HSAA Union Talks Event
DESCRIPTION:
URL:https://thecdlc.ca/event/hsaa-union-talks-event-2/
LOCATION:HSAA Office – Edmonton\, 18410 100 Ave NW\, Edmonton\, Alberta\, Canada
CATEGORIES:Affiliate Events
END:VEVENT
BEGIN:VEVENT
DTSTART;TZID=UTC:20190422T190000
DTEND;TZID=UTC:20190422T203000
DTSTAMP:20260422T045504
CREATED:20181210T190944Z
LAST-MODIFIED:20190409T174402Z
UID:2177-1555959600-1555965000@thecdlc.ca
SUMMARY:General Membership Meeting
DESCRIPTION:
URL:https://thecdlc.ca/event/general-membership-meeting-23/
LOCATION:The CDLC Office\, 321\, 3132 26 ST NE \, Calgary\, Alberta \, T1Y6Z1
END:VEVENT
BEGIN:VEVENT
DTSTART;TZID=UTC:20190424T170000
DTEND;TZID=UTC:20190424T180000
DTSTAMP:20260422T045504
CREATED:20190409T180056Z
LAST-MODIFIED:20190409T180056Z
UID:2308-1556125200-1556128800@thecdlc.ca
SUMMARY:Golf Committee Mtg
DESCRIPTION:
URL:https://thecdlc.ca/event/golf-committee-mtg/
END:VEVENT
BEGIN:VEVENT
DTSTART;TZID=UTC:20190428T110000
DTEND;TZID=UTC:20190428T130000
DTSTAMP:20260422T045504
CREATED:20190116T232206Z
LAST-MODIFIED:20190425T195920Z
UID:2227-1556449200-1556456400@thecdlc.ca
SUMMARY:April 28 Day of Mourning
DESCRIPTION:April 28 Day of Mourning
URL:https://thecdlc.ca/event/april-28-day-mourning/
END:VEVENT
BEGIN:VEVENT
DTSTART;TZID=UTC:20190430T180000
DTEND;TZID=UTC:20190430T210000
DTSTAMP:20260422T045504
CREATED:20190409T174833Z
LAST-MODIFIED:20190409T174833Z
UID:2304-1556647200-1556658000@thecdlc.ca
SUMMARY:Labour Appreciation Banquet
DESCRIPTION:
URL:https://thecdlc.ca/event/labour-appreciation-banquet/
END:VEVENT
END:VCALENDAR