BEGIN:VCALENDAR
VERSION:2.0
PRODID:-//Calgary &amp; District Labour Council - ECPv6.15.20//NONSGML v1.0//EN
CALSCALE:GREGORIAN
METHOD:PUBLISH
X-ORIGINAL-URL:https://thecdlc.ca
X-WR-CALDESC:Events for Calgary &amp; District Labour Council
REFRESH-INTERVAL;VALUE=DURATION:PT1H
X-Robots-Tag:noindex
X-PUBLISHED-TTL:PT1H
BEGIN:VTIMEZONE
TZID:UTC
BEGIN:STANDARD
TZOFFSETFROM:+0000
TZOFFSETTO:+0000
TZNAME:UTC
DTSTART:20170101T000000
END:STANDARD
END:VTIMEZONE
BEGIN:VEVENT
DTSTART;TZID=UTC:20181001T190000
DTEND;TZID=UTC:20181001T200000
DTSTAMP:20260422T150404
CREATED:20180109T223727Z
LAST-MODIFIED:20180109T223727Z
UID:2017-1538420400-1538424000@thecdlc.ca
SUMMARY:CDLC Executive Meeting
DESCRIPTION:
URL:https://thecdlc.ca/event/cdlc-executive-meeting-12/
LOCATION:The CDLC Office\, 321\, 3132 26 ST NE \, Calgary\, Alberta \, T1Y6Z1
CATEGORIES:Meetings
END:VEVENT
BEGIN:VEVENT
DTSTART;TZID=UTC:20181012T180000
DTEND;TZID=UTC:20181013T170000
DTSTAMP:20260422T150404
CREATED:20180212T225748Z
LAST-MODIFIED:20180718T213810Z
UID:2084-1539367200-1539450000@thecdlc.ca
SUMMARY:Shop Steward Training - Level 2
DESCRIPTION:Shop Steward Training-Level 2
URL:https://thecdlc.ca/event/shop-steward-training-level-2-2/
END:VEVENT
BEGIN:VEVENT
DTSTART;TZID=UTC:20181015T190000
DTEND;TZID=UTC:20181015T200000
DTSTAMP:20260422T150404
CREATED:20180109T183154Z
LAST-MODIFIED:20180109T183154Z
UID:1988-1539630000-1539633600@thecdlc.ca
SUMMARY:General Membership Meeting
DESCRIPTION:
URL:https://thecdlc.ca/event/general-membership-meeting-17/
LOCATION:The CDLC Office\, 321\, 3132 26 ST NE \, Calgary\, Alberta \, T1Y6Z1
CATEGORIES:Meetings
END:VEVENT
END:VCALENDAR