BEGIN:VCALENDAR
VERSION:2.0
PRODID:-//Calgary &amp; District Labour Council - ECPv6.15.20//NONSGML v1.0//EN
CALSCALE:GREGORIAN
METHOD:PUBLISH
X-ORIGINAL-URL:https://thecdlc.ca
X-WR-CALDESC:Events for Calgary &amp; District Labour Council
REFRESH-INTERVAL;VALUE=DURATION:PT1H
X-Robots-Tag:noindex
X-PUBLISHED-TTL:PT1H
BEGIN:VTIMEZONE
TZID:UTC
BEGIN:STANDARD
TZOFFSETFROM:+0000
TZOFFSETTO:+0000
TZNAME:UTC
DTSTART:20170101T000000
END:STANDARD
END:VTIMEZONE
BEGIN:VEVENT
DTSTART;TZID=UTC:20180604T190000
DTEND;TZID=UTC:20180604T200000
DTSTAMP:20260422T201557
CREATED:20180109T223402Z
LAST-MODIFIED:20180109T223402Z
UID:2013-1528138800-1528142400@thecdlc.ca
SUMMARY:CDLC Executive Meeting
DESCRIPTION:
URL:https://thecdlc.ca/event/cdlc-executive-meeting-10/
LOCATION:The CDLC Office\, 321\, 3132 26 ST NE \, Calgary\, Alberta \, T1Y6Z1
CATEGORIES:Meetings
END:VEVENT
BEGIN:VEVENT
DTSTART;TZID=UTC:20180609T090000
DTEND;TZID=UTC:20180609T170000
DTSTAMP:20260422T201557
CREATED:20180528T170842Z
LAST-MODIFIED:20180528T171032Z
UID:2143-1528534800-1528563600@thecdlc.ca
SUMMARY:Drum Making Workshop (day 1 of 2)
DESCRIPTION:
URL:https://thecdlc.ca/event/drum-making-workshop/
END:VEVENT
BEGIN:VEVENT
DTSTART;TZID=UTC:20180610T080000
DTEND;TZID=UTC:20180610T170000
DTSTAMP:20260422T201557
CREATED:20180528T170927Z
LAST-MODIFIED:20180528T170927Z
UID:2145-1528617600-1528650000@thecdlc.ca
SUMMARY:Drum Making Workshop (day 2)
DESCRIPTION:
URL:https://thecdlc.ca/event/drum-making-workshop-day-2/
END:VEVENT
BEGIN:VEVENT
DTSTART;TZID=UTC:20180618T190000
DTEND;TZID=UTC:20180618T200000
DTSTAMP:20260422T201557
CREATED:20180109T182221Z
LAST-MODIFIED:20180109T182221Z
UID:1984-1529348400-1529352000@thecdlc.ca
SUMMARY:General Membership Meeting
DESCRIPTION:
URL:https://thecdlc.ca/event/general-membership-meeting-15/
LOCATION:The CDLC Office\, 321\, 3132 26 ST NE \, Calgary\, Alberta \, T1Y6Z1
END:VEVENT
BEGIN:VEVENT
DTSTART;TZID=UTC:20180619T080000
DTEND;TZID=UTC:20180619T153000
DTSTAMP:20260422T201557
CREATED:20180528T170628Z
LAST-MODIFIED:20180528T170628Z
UID:2141-1529395200-1529422200@thecdlc.ca
SUMMARY:Human Rights Workshop
DESCRIPTION:
URL:https://thecdlc.ca/event/human-rights-workshop/
END:VEVENT
BEGIN:VEVENT
DTSTART;TZID=UTC:20180622T180000
DTEND;TZID=UTC:20180623T170000
DTSTAMP:20260422T201557
CREATED:20180212T225632Z
LAST-MODIFIED:20180212T225632Z
UID:2082-1529690400-1529773200@thecdlc.ca
SUMMARY:Health & Safety Training
DESCRIPTION:Health & Safety Training Course
URL:https://thecdlc.ca/event/health-safety-training/
END:VEVENT
END:VCALENDAR