BEGIN:VCALENDAR
VERSION:2.0
PRODID:-//Calgary &amp; District Labour Council - ECPv6.15.20//NONSGML v1.0//EN
CALSCALE:GREGORIAN
METHOD:PUBLISH
X-ORIGINAL-URL:https://thecdlc.ca
X-WR-CALDESC:Events for Calgary &amp; District Labour Council
REFRESH-INTERVAL;VALUE=DURATION:PT1H
X-Robots-Tag:noindex
X-PUBLISHED-TTL:PT1H
BEGIN:VTIMEZONE
TZID:UTC
BEGIN:STANDARD
TZOFFSETFROM:+0000
TZOFFSETTO:+0000
TZNAME:UTC
DTSTART:20170101T000000
END:STANDARD
END:VTIMEZONE
BEGIN:VEVENT
DTSTART;TZID=UTC:20180305T080000
DTEND;TZID=UTC:20180305T170000
DTSTAMP:20260423T003746
CREATED:20180109T223002Z
LAST-MODIFIED:20180109T223002Z
UID:2007-1520236800-1520269200@thecdlc.ca
SUMMARY:CDLC Executive Meeting
DESCRIPTION:
URL:https://thecdlc.ca/event/cdlc-executive-meeting-7/
LOCATION:The CDLC Office\, 321\, 3132 26 ST NE \, Calgary\, Alberta \, T1Y6Z1
CATEGORIES:Meetings
END:VEVENT
BEGIN:VEVENT
DTSTART;TZID=UTC:20180319T190000
DTEND;TZID=UTC:20180319T200000
DTSTAMP:20260423T003746
CREATED:20180109T181543Z
LAST-MODIFIED:20180109T181543Z
UID:1978-1521486000-1521489600@thecdlc.ca
SUMMARY:General Membership Meeting
DESCRIPTION:
URL:https://thecdlc.ca/event/general-membership-meeting-12/
LOCATION:The CDLC Office\, 321\, 3132 26 ST NE \, Calgary\, Alberta \, T1Y6Z1
END:VEVENT
BEGIN:VEVENT
DTSTART;TZID=UTC:20180324T090000
DTEND;TZID=UTC:20180325T170000
DTSTAMP:20260423T003746
CREATED:20180212T225225Z
LAST-MODIFIED:20180212T225304Z
UID:2077-1521882000-1521997200@thecdlc.ca
SUMMARY:Pre-Retirement Course
DESCRIPTION:Pre-Retirement Course
URL:https://thecdlc.ca/event/2077/
END:VEVENT
END:VCALENDAR