BEGIN:VCALENDAR
VERSION:2.0
PRODID:-//Calgary &amp; District Labour Council - ECPv6.15.20//NONSGML v1.0//EN
CALSCALE:GREGORIAN
METHOD:PUBLISH
X-ORIGINAL-URL:https://thecdlc.ca
X-WR-CALDESC:Events for Calgary &amp; District Labour Council
REFRESH-INTERVAL;VALUE=DURATION:PT1H
X-Robots-Tag:noindex
X-PUBLISHED-TTL:PT1H
BEGIN:VTIMEZONE
TZID:UTC
BEGIN:STANDARD
TZOFFSETFROM:+0000
TZOFFSETTO:+0000
TZNAME:UTC
DTSTART:20160101T000000
END:STANDARD
END:VTIMEZONE
BEGIN:VEVENT
DTSTART;TZID=UTC:20170911T190000
DTEND;TZID=UTC:20170911T200000
DTSTAMP:20260423T094810
CREATED:20161128T225210Z
LAST-MODIFIED:20161128T225210Z
UID:1703-1505156400-1505160000@thecdlc.ca
SUMMARY:Executive Meeting
DESCRIPTION:
URL:https://thecdlc.ca/event/executive-meeting-9/
CATEGORIES:Meetings
END:VEVENT
BEGIN:VEVENT
DTSTART;TZID=UTC:20170918T190000
DTEND;TZID=UTC:20170918T200000
DTSTAMP:20260423T094810
CREATED:20161128T231845Z
LAST-MODIFIED:20161128T231845Z
UID:1713-1505761200-1505764800@thecdlc.ca
SUMMARY:General Membership Meeting
DESCRIPTION:
URL:https://thecdlc.ca/event/general-membership-meeting-7/
CATEGORIES:Meetings
END:VEVENT
BEGIN:VEVENT
DTSTART;TZID=UTC:20170929T180000
DTEND;TZID=UTC:20170929T210000
DTSTAMP:20260423T094810
CREATED:20161129T172857Z
LAST-MODIFIED:20161129T172857Z
UID:1739-1506708000-1506718800@thecdlc.ca
SUMMARY:Shop Steward-Level 2 Training
DESCRIPTION:Shop Steward-Level 2 Training
URL:https://thecdlc.ca/event/shop-steward-level-2-training/
LOCATION:CDLC
CATEGORIES:Workshops
END:VEVENT
BEGIN:VEVENT
DTSTART;TZID=UTC:20170930T090000
DTEND;TZID=UTC:20170930T170000
DTSTAMP:20260423T094810
CREATED:20161129T172959Z
LAST-MODIFIED:20161129T172959Z
UID:1741-1506762000-1506790800@thecdlc.ca
SUMMARY:Shop Steward-Level 2 Training
DESCRIPTION:Shop Steward-Level 2 Training
URL:https://thecdlc.ca/event/shop-steward-level-2-training-2/
LOCATION:CDLC
CATEGORIES:Workshops
END:VEVENT
END:VCALENDAR