BEGIN:VCALENDAR
VERSION:2.0
PRODID:-//Calgary &amp; District Labour Council - ECPv6.15.20//NONSGML v1.0//EN
CALSCALE:GREGORIAN
METHOD:PUBLISH
X-WR-CALNAME:Calgary &amp; District Labour Council
X-ORIGINAL-URL:https://thecdlc.ca
X-WR-CALDESC:Events for Calgary &amp; District Labour Council
REFRESH-INTERVAL;VALUE=DURATION:PT1H
X-Robots-Tag:noindex
X-PUBLISHED-TTL:PT1H
BEGIN:VTIMEZONE
TZID:UTC
BEGIN:STANDARD
TZOFFSETFROM:+0000
TZOFFSETTO:+0000
TZNAME:UTC
DTSTART:20150101T000000
END:STANDARD
END:VTIMEZONE
BEGIN:VEVENT
DTSTART;TZID=UTC:20160914T184500
DTEND;TZID=UTC:20160914T200000
DTSTAMP:20260420T071533
CREATED:20160808T155149Z
LAST-MODIFIED:20160808T155149Z
UID:1543-1473878700-1473883200@thecdlc.ca
SUMMARY:No Paid Plasma Tour - Friends of Medicare
DESCRIPTION:Join Friends of Medicare for the \nSTOP PAID PLASMA Tour \nWed\, Sept 14 at 6:45 PM \n2918 8 Ave NW\, Calgary \nhttp://ow.ly/fEuP3032314
URL:https://thecdlc.ca/event/no-paid-plasma-tour-friends-medicare/
CATEGORIES:Affiliate Events
END:VEVENT
BEGIN:VEVENT
DTSTART;TZID=UTC:20160912T190000
DTEND;TZID=UTC:20160912T200000
DTSTAMP:20260420T071533
CREATED:20160406T181035Z
LAST-MODIFIED:20160719T193955Z
UID:1400-1473706800-1473710400@thecdlc.ca
SUMMARY:CDLC Executive Meeting
DESCRIPTION:Open to all Executive Members
URL:https://thecdlc.ca/event/cdlc-executive-member/
END:VEVENT
BEGIN:VEVENT
DTSTART;TZID=UTC:20160903T080000
DTEND;TZID=UTC:20160903T140000
DTSTAMP:20260420T071533
CREATED:20160629T201622Z
LAST-MODIFIED:20160707T214835Z
UID:1508-1472889600-1472911200@thecdlc.ca
SUMMARY:CDLC/UNIFOR 4050 Golf Tournament
DESCRIPTION:
URL:https://thecdlc.ca/event/cdlcunifor-4050-golf-tournament/
LOCATION:Collicutt Siding Golf Club\, 1025 Western Drive\, Crossfield
END:VEVENT
BEGIN:VEVENT
DTSTART;TZID=UTC:20160624T180000
DTEND;TZID=UTC:20160625T170000
DTSTAMP:20260420T071533
CREATED:20160406T183623Z
LAST-MODIFIED:20160406T183623Z
UID:1407-1466791200-1466874000@thecdlc.ca
SUMMARY:Shop Steward Training - Level 1
DESCRIPTION:Shop Steward Training – Level 1 \nFriday\, June 24 – 6 to 9 pm\nSaturday\, June 25 – 8:30 am to 5 pm \nWhat are the responsibilities of the Steward? Discussion and class exercises will assist you in the proper writing and handling of grievances\, knowing your collective agreement and implementing the grievance procedure. The relationship of the Steward to the membership will also be discussed.
URL:https://thecdlc.ca/event/shop-steward-training-level-1/
CATEGORIES:Workshops
END:VEVENT
BEGIN:VEVENT
DTSTART;TZID=UTC:20160620T190000
DTEND;TZID=UTC:20160620T200000
DTSTAMP:20260420T071533
CREATED:20160406T181511Z
LAST-MODIFIED:20160406T181511Z
UID:1401-1466449200-1466452800@thecdlc.ca
SUMMARY:CDLC General Membership Meeting
DESCRIPTION:Open to all General Membership Meeting.
URL:https://thecdlc.ca/event/cdlc-general-membership-meeting-7/
END:VEVENT
BEGIN:VEVENT
DTSTART;TZID=UTC:20160606T070000
DTEND;TZID=UTC:20160606T200000
DTSTAMP:20260420T071533
CREATED:20160406T180756Z
LAST-MODIFIED:20160406T180756Z
UID:1399-1465196400-1465243200@thecdlc.ca
SUMMARY:CDLC Executive Meeting
DESCRIPTION:Open to all executive members.
URL:https://thecdlc.ca/event/cdlc-executive-meeting-2/
END:VEVENT
BEGIN:VEVENT
DTSTART;TZID=UTC:20160516T190000
DTEND;TZID=UTC:20160516T200000
DTSTAMP:20260420T071533
CREATED:20160406T173306Z
LAST-MODIFIED:20160406T180902Z
UID:1392-1463425200-1463428800@thecdlc.ca
SUMMARY:CDLC General Membership Meeting
DESCRIPTION:Open to all CDLC Delegates
URL:https://thecdlc.ca/event/cdlc-general-membership-meeting-2/
CATEGORIES:Meetings
END:VEVENT
BEGIN:VEVENT
DTSTART;TZID=UTC:20160509T190000
DTEND;TZID=UTC:20160509T200000
DTSTAMP:20260420T071533
CREATED:20160406T180612Z
LAST-MODIFIED:20160406T180834Z
UID:1398-1462820400-1462824000@thecdlc.ca
SUMMARY:CDLC Executive Meeting
DESCRIPTION:Open to all executive meeting.
URL:https://thecdlc.ca/event/cdlc-executive-meeting/
CATEGORIES:Meetings
END:VEVENT
BEGIN:VEVENT
DTSTART;TZID=UTC:20160429T180000
DTEND;TZID=UTC:20160430T170000
DTSTAMP:20260420T071533
CREATED:20160406T182920Z
LAST-MODIFIED:20160406T183052Z
UID:1405-1461952800-1462035600@thecdlc.ca
SUMMARY:Health and Safety Workshop
DESCRIPTION:Solving Health and Safety Problems \nApril 29 – 6 to 9 pm \nApril 30 – 8:30 am to 5 pm \nTired of seeing co-workers getting hurt and sick from work? Want to make change in the health of your workplace? This course will identify and explore tools and strategies that can help take your health and safety interests to the next level. For experienced safety geeks and newbies alike.
URL:https://thecdlc.ca/event/health-safety-workshop/
CATEGORIES:Workshops
END:VEVENT
BEGIN:VEVENT
DTSTART;TZID=UTC:20160428T121500
DTEND;TZID=UTC:20160428T131500
DTSTAMP:20260420T071533
CREATED:20160406T162532Z
LAST-MODIFIED:20160406T162828Z
UID:1384-1461845700-1461849300@thecdlc.ca
SUMMARY:Day of Mourning
DESCRIPTION:[cmsms_row][cmsms_column data_width=”1/1″][cmsms_text] \nA day to mourn the dead and fight for the living. \n2016 April 28 Day of Mourning Poster \n \n[/cmsms_text][/cmsms_column][/cmsms_row]
URL:https://thecdlc.ca/event/day-of-mourning/
LOCATION:Calgary City Hall\, 700 Macleod Trail Southeast\, Calgary\, Alberta\, T2G 2M3\, Canada
END:VEVENT
BEGIN:VEVENT
DTSTART;TZID=UTC:20160418T190000
DTEND;TZID=UTC:20160418T200000
DTSTAMP:20260420T071533
CREATED:20160406T173124Z
LAST-MODIFIED:20160406T173132Z
UID:1391-1461006000-1461009600@thecdlc.ca
SUMMARY:CDLC General Membership Meeting
DESCRIPTION:Open to all delegates of the CDLC
URL:https://thecdlc.ca/event/cdlc-general-membership-meeting/
END:VEVENT
END:VCALENDAR