BEGIN:VCALENDAR
VERSION:2.0
PRODID:-//Calgary &amp; District Labour Council - ECPv6.15.20//NONSGML v1.0//EN
CALSCALE:GREGORIAN
METHOD:PUBLISH
X-WR-CALNAME:Calgary &amp; District Labour Council
X-ORIGINAL-URL:https://thecdlc.ca
X-WR-CALDESC:Events for Calgary &amp; District Labour Council
REFRESH-INTERVAL;VALUE=DURATION:PT1H
X-Robots-Tag:noindex
X-PUBLISHED-TTL:PT1H
BEGIN:VTIMEZONE
TZID:UTC
BEGIN:STANDARD
TZOFFSETFROM:+0000
TZOFFSETTO:+0000
TZNAME:UTC
DTSTART:20150101T000000
END:STANDARD
END:VTIMEZONE
BEGIN:VEVENT
DTSTART;TZID=UTC:20170528T090000
DTEND;TZID=UTC:20170528T170000
DTSTAMP:20260420T045456
CREATED:20161129T172446Z
LAST-MODIFIED:20161129T172501Z
UID:1734-1495962000-1495990800@thecdlc.ca
SUMMARY:Pre-Retirement Course
DESCRIPTION:Pre-Retirement Course
URL:https://thecdlc.ca/event/pre-retirement-course-3/
LOCATION:Alberta 
CATEGORIES:Workshops
END:VEVENT
BEGIN:VEVENT
DTSTART;TZID=UTC:20170527T090000
DTEND;TZID=UTC:20170527T170000
DTSTAMP:20260420T045456
CREATED:20161129T172335Z
LAST-MODIFIED:20161129T172335Z
UID:1732-1495875600-1495904400@thecdlc.ca
SUMMARY:Pre-Retirement Course
DESCRIPTION:Pre-Retirement Course
URL:https://thecdlc.ca/event/pre-retirement-course-2/
LOCATION:CDLC
CATEGORIES:Workshops
END:VEVENT
BEGIN:VEVENT
DTSTART;TZID=UTC:20170515T190000
DTEND;TZID=UTC:20170515T200000
DTSTAMP:20260420T045456
CREATED:20161128T231536Z
LAST-MODIFIED:20161128T231536Z
UID:1711-1494874800-1494878400@thecdlc.ca
SUMMARY:General Membership Meeting
DESCRIPTION:
URL:https://thecdlc.ca/event/general-membership-meeting-5/
LOCATION:Alberta 
CATEGORIES:Meetings
END:VEVENT
BEGIN:VEVENT
DTSTART;TZID=UTC:20170501T190000
DTEND;TZID=UTC:20170501T200000
DTSTAMP:20260420T045456
CREATED:20161128T224951Z
LAST-MODIFIED:20161128T224951Z
UID:1701-1493665200-1493668800@thecdlc.ca
SUMMARY:Executive Meeting
DESCRIPTION:
URL:https://thecdlc.ca/event/executive-meeting-7/
LOCATION:Alberta 
CATEGORIES:Meetings
END:VEVENT
BEGIN:VEVENT
DTSTART;TZID=UTC:20170428T121500
DTEND;TZID=UTC:20170428T130000
DTSTAMP:20260420T045456
CREATED:20170411T202638Z
LAST-MODIFIED:20170411T202638Z
UID:1930-1493381700-1493384400@thecdlc.ca
SUMMARY:Day of Mourning
DESCRIPTION:
URL:https://thecdlc.ca/event/day-of-mourning-2/
LOCATION:Alberta 
CATEGORIES:Meetings
END:VEVENT
BEGIN:VEVENT
DTSTART;TZID=UTC:20170417T190000
DTEND;TZID=UTC:20170417T200000
DTSTAMP:20260420T045456
CREATED:20161128T231336Z
LAST-MODIFIED:20161128T231336Z
UID:1710-1492455600-1492459200@thecdlc.ca
SUMMARY:General Membership Meeting
DESCRIPTION:
URL:https://thecdlc.ca/event/general-membership-meeting-4/
LOCATION:Alberta 
CATEGORIES:Meetings
END:VEVENT
BEGIN:VEVENT
DTSTART;TZID=UTC:20170403T190000
DTEND;TZID=UTC:20170403T200000
DTSTAMP:20260420T045456
CREATED:20161128T224718Z
LAST-MODIFIED:20161128T224718Z
UID:1699-1491246000-1491249600@thecdlc.ca
SUMMARY:Executive Meeting
DESCRIPTION:
URL:https://thecdlc.ca/event/executive-meeting-5/
LOCATION:Alberta 
CATEGORIES:Meetings
END:VEVENT
BEGIN:VEVENT
DTSTART;TZID=UTC:20170327T190000
DTEND;TZID=UTC:20170327T200000
DTSTAMP:20260420T045456
CREATED:20161128T230509Z
LAST-MODIFIED:20170227T212503Z
UID:1709-1490641200-1490644800@thecdlc.ca
SUMMARY:General Membership Meeting
DESCRIPTION:
URL:https://thecdlc.ca/event/general-membership-meeting-3/
LOCATION:Alberta 
CATEGORIES:Meetings
END:VEVENT
BEGIN:VEVENT
DTSTART;TZID=UTC:20170325T090000
DTEND;TZID=UTC:20170325T170000
DTSTAMP:20260420T045456
CREATED:20161129T172034Z
LAST-MODIFIED:20161129T172202Z
UID:1729-1490432400-1490461200@thecdlc.ca
SUMMARY:Shop Steward Training-Level 1
DESCRIPTION:Shop Steward Training-Level 1
URL:https://thecdlc.ca/event/shop-steward-training-level-1-3/
LOCATION:CDLC
CATEGORIES:Workshops
END:VEVENT
BEGIN:VEVENT
DTSTART;TZID=UTC:20170324T180000
DTEND;TZID=UTC:20170324T210000
DTSTAMP:20260420T045456
CREATED:20161129T171925Z
LAST-MODIFIED:20161129T171925Z
UID:1727-1490378400-1490389200@thecdlc.ca
SUMMARY:Shop Steward Training-Level 1
DESCRIPTION:Shop Steward Training-Level 1
URL:https://thecdlc.ca/event/shop-steward-training-level-1-2/
LOCATION:CDLC
CATEGORIES:Workshops
END:VEVENT
BEGIN:VEVENT
DTSTART;TZID=UTC:20170306T190000
DTEND;TZID=UTC:20170306T200000
DTSTAMP:20260420T045456
CREATED:20161128T224458Z
LAST-MODIFIED:20161128T224458Z
UID:1697-1488826800-1488830400@thecdlc.ca
SUMMARY:Executive Meeting
DESCRIPTION:
URL:https://thecdlc.ca/event/executive-meeting-3/
LOCATION:Alberta 
END:VEVENT
BEGIN:VEVENT
DTSTART;TZID=UTC:20170227T190000
DTEND;TZID=UTC:20170227T200000
DTSTAMP:20260420T045456
CREATED:20161128T230418Z
LAST-MODIFIED:20161128T230418Z
UID:1708-1488222000-1488225600@thecdlc.ca
SUMMARY:General Membership Meeting
DESCRIPTION:
URL:https://thecdlc.ca/event/general-membership-meeting-2/
LOCATION:Alberta 
CATEGORIES:Meetings
END:VEVENT
BEGIN:VEVENT
DTSTART;TZID=UTC:20170206T190000
DTEND;TZID=UTC:20170206T200000
DTSTAMP:20260420T045456
CREATED:20161128T224409Z
LAST-MODIFIED:20161128T224409Z
UID:1696-1486407600-1486411200@thecdlc.ca
SUMMARY:Executive Meeting
DESCRIPTION:
URL:https://thecdlc.ca/event/executive-meeting-2/
LOCATION:Alberta 
CATEGORIES:Meetings
END:VEVENT
BEGIN:VEVENT
DTSTART;TZID=UTC:20170128T090000
DTEND;TZID=UTC:20170128T170000
DTSTAMP:20260420T045456
CREATED:20161129T171737Z
LAST-MODIFIED:20161129T171752Z
UID:1725-1485594000-1485622800@thecdlc.ca
SUMMARY:Health + Safety Course
DESCRIPTION:Health + Safety Course
URL:https://thecdlc.ca/event/health-safety-course/
LOCATION:CDLC
CATEGORIES:Workshops
END:VEVENT
BEGIN:VEVENT
DTSTART;TZID=UTC:20170127T180000
DTEND;TZID=UTC:20170127T210000
DTSTAMP:20260420T045456
CREATED:20161129T171540Z
LAST-MODIFIED:20161129T171623Z
UID:1722-1485540000-1485550800@thecdlc.ca
SUMMARY:Health + Safety Course
DESCRIPTION:Health + Safety Course
URL:https://thecdlc.ca/event/1722/
LOCATION:Alberta 
CATEGORIES:Workshops
END:VEVENT
BEGIN:VEVENT
DTSTART;TZID=UTC:20170116T190000
DTEND;TZID=UTC:20170116T200000
DTSTAMP:20260420T045456
CREATED:20161128T230030Z
LAST-MODIFIED:20161128T230030Z
UID:1707-1484593200-1484596800@thecdlc.ca
SUMMARY:General Membership Meeting
DESCRIPTION:
URL:https://thecdlc.ca/event/general-membership-meeting/
LOCATION:Alberta 
CATEGORIES:Meetings
END:VEVENT
BEGIN:VEVENT
DTSTART;TZID=UTC:20170109T190000
DTEND;TZID=UTC:20170109T200000
DTSTAMP:20260420T045456
CREATED:20161128T224120Z
LAST-MODIFIED:20161128T224120Z
UID:1695-1483988400-1483992000@thecdlc.ca
SUMMARY:Executive Meeting
DESCRIPTION:
URL:https://thecdlc.ca/event/executive-meeting/
LOCATION:Alberta 
END:VEVENT
BEGIN:VEVENT
DTSTART;TZID=UTC:20161212T180000
DTEND;TZID=UTC:20161212T210000
DTSTAMP:20260420T045456
CREATED:20161128T223923Z
LAST-MODIFIED:20161128T223923Z
UID:1693-1481565600-1481576400@thecdlc.ca
SUMMARY:Holiday Open House
DESCRIPTION:
URL:https://thecdlc.ca/event/holiday-open-house/
LOCATION:Palliser Hotel\, 133 9th Ave SW \, Calgary \, Canada
END:VEVENT
BEGIN:VEVENT
DTSTART;TZID=UTC:20161211T130000
DTEND;TZID=UTC:20161211T140000
DTSTAMP:20260420T045456
CREATED:20161205T221025Z
LAST-MODIFIED:20161205T221038Z
UID:1752-1481461200-1481464800@thecdlc.ca
SUMMARY:Joining the Grain Exchange
DESCRIPTION:
URL:https://thecdlc.ca/event/joining-grain-exchange/
LOCATION:The Alex Community Food Centre\, 4920 17th Ave SE\, Calgary\, Alberta \, Canada
END:VEVENT
BEGIN:VEVENT
DTSTART;TZID=UTC:20161205T190000
DTEND;TZID=UTC:20161205T200000
DTSTAMP:20260420T045456
CREATED:20160406T181959Z
LAST-MODIFIED:20160406T182159Z
UID:1404-1480964400-1480968000@thecdlc.ca
SUMMARY:CDLC Executive Meeting
DESCRIPTION:Open to all Executive Members.
URL:https://thecdlc.ca/event/cdlc-executive-meeting-5/
LOCATION:Alberta 
CATEGORIES:Meetings
END:VEVENT
BEGIN:VEVENT
DTSTART;TZID=UTC:20161128T080000
DTEND;TZID=UTC:20161128T170000
DTSTAMP:20260420T045456
CREATED:20161128T224803Z
LAST-MODIFIED:20161128T224803Z
UID:1700-1480320000-1480352400@thecdlc.ca
SUMMARY:Executive Meeting
DESCRIPTION:
URL:https://thecdlc.ca/event/executive-meeting-6/
LOCATION:Alberta 
CATEGORIES:Meetings
END:VEVENT
BEGIN:VEVENT
DTSTART;TZID=UTC:20161128T080000
DTEND;TZID=UTC:20161128T170000
DTSTAMP:20260420T045456
CREATED:20161128T224539Z
LAST-MODIFIED:20161128T224539Z
UID:1698-1480320000-1480352400@thecdlc.ca
SUMMARY:Executive Meeting
DESCRIPTION:
URL:https://thecdlc.ca/event/executive-meeting-4/
LOCATION:Alberta 
CATEGORIES:Meetings
END:VEVENT
BEGIN:VEVENT
DTSTART;TZID=UTC:20161125T180000
DTEND;TZID=UTC:20161126T170000
DTSTAMP:20260420T045456
CREATED:20160406T185023Z
LAST-MODIFIED:20160406T185023Z
UID:1409-1480096800-1480179600@thecdlc.ca
SUMMARY:Shop Steward Training - Level 2
DESCRIPTION:Shop Steward Training – Level 2 \nFriday\, November 25 – 6 to 9 pm \nSaturday\, November 26 8:30 am to 5:00 pm \nThis second level course builds on the framework of steward skills established in our level 1 course. The course will focus on representation issues: \n\nKnowing your membership\nWorking with your union executive\nGrievance preparation\nProblem Solving\, Conflict Resolution\, and Representation Skills
URL:https://thecdlc.ca/event/shop-steward-training-level-2/
LOCATION:Alberta 
CATEGORIES:Workshops
END:VEVENT
BEGIN:VEVENT
DTSTART;TZID=UTC:20161121T190000
DTEND;TZID=UTC:20161121T200000
DTSTAMP:20260420T045456
CREATED:20160406T180054Z
LAST-MODIFIED:20160406T180054Z
UID:1396-1479754800-1479758400@thecdlc.ca
SUMMARY:CDLC General Membership Meeting
DESCRIPTION:Open to all CDLC delegates.
URL:https://thecdlc.ca/event/cdlc-general-membership-meeting-6/
LOCATION:Alberta 
CATEGORIES:Meetings
END:VEVENT
BEGIN:VEVENT
DTSTART;TZID=UTC:20161107T190000
DTEND;TZID=UTC:20161107T200000
DTSTAMP:20260420T045456
CREATED:20160406T181842Z
LAST-MODIFIED:20160406T181842Z
UID:1403-1478545200-1478548800@thecdlc.ca
SUMMARY:CDLC Executive Meeting
DESCRIPTION:Open to all Executive Members.
URL:https://thecdlc.ca/event/cdlc-executive-meeting-4/
LOCATION:Alberta 
CATEGORIES:Meetings
END:VEVENT
BEGIN:VEVENT
DTSTART;VALUE=DATE:20161029
DTEND;VALUE=DATE:20161031
DTSTAMP:20260420T045456
CREATED:20160718T221209Z
LAST-MODIFIED:20160718T221251Z
UID:1527-1477699200-1477871999@thecdlc.ca
SUMMARY:Pre-Retirement Course
DESCRIPTION:This course is provided by the Congress of Union Retirees of Canada (CURC). A pre-retirement course that deals with all the major issues which those planning for retirement need to consider (ex:goal setting\, legal issues\, housing\, activities\, changing relationships\, volunteering\, labour movement involvement)\, health and of course financial matters. \nOctober 29 and 30 8:30 AM to 5:00 PM.
URL:https://thecdlc.ca/event/pre-retirement-course/
LOCATION:Alberta 
END:VEVENT
BEGIN:VEVENT
DTSTART;TZID=UTC:20161017T190000
DTEND;TZID=UTC:20161017T200000
DTSTAMP:20260420T045456
CREATED:20160406T173742Z
LAST-MODIFIED:20160406T174232Z
UID:1395-1476730800-1476734400@thecdlc.ca
SUMMARY:CDLC General Membership Meeting
DESCRIPTION:Open to all the delegates of the CDLC.
URL:https://thecdlc.ca/event/cdlc-general-membership-meeting-5/
LOCATION:Alberta 
CATEGORIES:Meetings
END:VEVENT
BEGIN:VEVENT
DTSTART;TZID=UTC:20161003T080000
DTEND;TZID=UTC:20161003T170000
DTSTAMP:20260420T045456
CREATED:20160406T181703Z
LAST-MODIFIED:20160406T181703Z
UID:1402-1475481600-1475514000@thecdlc.ca
SUMMARY:CDLC Executive Meeting
DESCRIPTION:Open to all executive meeting.
URL:https://thecdlc.ca/event/cdlc-executive-meeting-3/
LOCATION:Alberta 
CATEGORIES:Meetings
END:VEVENT
BEGIN:VEVENT
DTSTART;TZID=UTC:20160923T180000
DTEND;TZID=UTC:20160924T170000
DTSTAMP:20260420T045456
CREATED:20160406T184610Z
LAST-MODIFIED:20160927T162805Z
UID:1408-1474653600-1474736400@thecdlc.ca
SUMMARY:Introduction to Collective Bargaining-CANCELLED
DESCRIPTION:Introduction to Collective Bargaining \nFriday\, September 23 – 6 to 9 pm \nSaturday\, September 24 – 8:30 am to 5 pm \nA course primarily designed for participants who have not had a lot of experience or formal training in Collective Bargaining\, but who are members of negotiating committees or deal with selecting bargaining issues and priorities in their unions. Participants will discuss how to deal with preparation for bargaining\, including obtaining the members’ opinions on important bargaining issues and how to prioritize them. We will look at the structure of negotiations\, effective negotiation and bargaining skills\, and some collective bargaining language.
URL:https://thecdlc.ca/event/introduction-collective-bargaining/
LOCATION:Alberta 
CATEGORIES:Workshops
END:VEVENT
BEGIN:VEVENT
DTSTART;TZID=UTC:20160919T190000
DTEND;TZID=UTC:20160919T200000
DTSTAMP:20260420T045456
CREATED:20160406T173547Z
LAST-MODIFIED:20160406T174141Z
UID:1394-1474311600-1474315200@thecdlc.ca
SUMMARY:CDLC General Membership Meeting
DESCRIPTION:Open to all CDLC Delegates
URL:https://thecdlc.ca/event/cdlc-general-membership-meeting-4/
LOCATION:Alberta 
CATEGORIES:Meetings
END:VEVENT
END:VCALENDAR