BEGIN:VCALENDAR
VERSION:2.0
PRODID:-//Calgary &amp; District Labour Council - ECPv6.15.20//NONSGML v1.0//EN
CALSCALE:GREGORIAN
METHOD:PUBLISH
X-ORIGINAL-URL:https://thecdlc.ca
X-WR-CALDESC:Events for Calgary &amp; District Labour Council
REFRESH-INTERVAL;VALUE=DURATION:PT1H
X-Robots-Tag:noindex
X-PUBLISHED-TTL:PT1H
BEGIN:VTIMEZONE
TZID:UTC
BEGIN:STANDARD
TZOFFSETFROM:+0000
TZOFFSETTO:+0000
TZNAME:UTC
DTSTART:20250101T000000
END:STANDARD
END:VTIMEZONE
BEGIN:VEVENT
DTSTART;TZID=UTC:20261005T190000
DTEND;TZID=UTC:20261005T200000
DTSTAMP:20260419T194717
CREATED:20260413T163543Z
LAST-MODIFIED:20260413T163543Z
UID:59763-1791226800-1791230400@thecdlc.ca
SUMMARY:October Executive Meeting
DESCRIPTION:
URL:https://thecdlc.ca/event/october-executive-meeting/
CATEGORIES:Meetings
END:VEVENT
END:VCALENDAR