BEGIN:VCALENDAR
VERSION:2.0
PRODID:-//Calgary &amp; District Labour Council - ECPv6.15.20//NONSGML v1.0//EN
CALSCALE:GREGORIAN
METHOD:PUBLISH
X-WR-CALNAME:Calgary &amp; District Labour Council
X-ORIGINAL-URL:https://thecdlc.ca
X-WR-CALDESC:Events for Calgary &amp; District Labour Council
REFRESH-INTERVAL;VALUE=DURATION:PT1H
X-Robots-Tag:noindex
X-PUBLISHED-TTL:PT1H
BEGIN:VTIMEZONE
TZID:UTC
BEGIN:STANDARD
TZOFFSETFROM:+0000
TZOFFSETTO:+0000
TZNAME:UTC
DTSTART:20230101T000000
END:STANDARD
END:VTIMEZONE
BEGIN:VEVENT
DTSTART;TZID=UTC:20240902T100000
DTEND;TZID=UTC:20240902T140000
DTSTAMP:20260419T135135
CREATED:20240604T213731Z
LAST-MODIFIED:20240604T213731Z
UID:32005-1725271200-1725285600@thecdlc.ca
SUMMARY:Labour Day Food Drive
DESCRIPTION:
URL:https://thecdlc.ca/event/labour-day-food-drive/
END:VEVENT
BEGIN:VEVENT
DTSTART;TZID=UTC:20240902T100000
DTEND;TZID=UTC:20240902T140000
DTSTAMP:20260419T135135
CREATED:20240724T164012Z
LAST-MODIFIED:20240724T164012Z
UID:33376-1725271200-1725285600@thecdlc.ca
SUMMARY:Labour Day Food Drive
DESCRIPTION:
URL:https://thecdlc.ca/event/labour-day-food-drive-2/
END:VEVENT
END:VCALENDAR