BEGIN:VCALENDAR
VERSION:2.0
PRODID:-//Calgary &amp; District Labour Council - ECPv6.15.20//NONSGML v1.0//EN
CALSCALE:GREGORIAN
METHOD:PUBLISH
X-ORIGINAL-URL:https://thecdlc.ca
X-WR-CALDESC:Events for Calgary &amp; District Labour Council
REFRESH-INTERVAL;VALUE=DURATION:PT1H
X-Robots-Tag:noindex
X-PUBLISHED-TTL:PT1H
BEGIN:VTIMEZONE
TZID:UTC
BEGIN:STANDARD
TZOFFSETFROM:+0000
TZOFFSETTO:+0000
TZNAME:UTC
DTSTART:20220101T000000
END:STANDARD
END:VTIMEZONE
BEGIN:VEVENT
DTSTART;TZID=UTC:20231120T190000
DTEND;TZID=UTC:20231120T203000
DTSTAMP:20260419T182602
CREATED:20230920T183112Z
LAST-MODIFIED:20230920T183112Z
UID:23019-1700506800-1700512200@thecdlc.ca
SUMMARY:Membership Mtg.
DESCRIPTION:
URL:https://thecdlc.ca/event/membership-mtg-17/
END:VEVENT
END:VCALENDAR