BEGIN:VCALENDAR
VERSION:2.0
PRODID:-//Calgary &amp; District Labour Council - ECPv6.15.20//NONSGML v1.0//EN
CALSCALE:GREGORIAN
METHOD:PUBLISH
X-ORIGINAL-URL:https://thecdlc.ca
X-WR-CALDESC:Events for Calgary &amp; District Labour Council
REFRESH-INTERVAL;VALUE=DURATION:PT1H
X-Robots-Tag:noindex
X-PUBLISHED-TTL:PT1H
BEGIN:VTIMEZONE
TZID:UTC
BEGIN:STANDARD
TZOFFSETFROM:+0000
TZOFFSETTO:+0000
TZNAME:UTC
DTSTART:20210101T000000
END:STANDARD
END:VTIMEZONE
BEGIN:VEVENT
DTSTART;TZID=UTC:20220604T090000
DTEND;TZID=UTC:20220604T170000
DTSTAMP:20260419T144646
CREATED:20220208T173205Z
LAST-MODIFIED:20220208T173205Z
UID:13497-1654333200-1654362000@thecdlc.ca
SUMMARY:Parliamentary Procedure - Zoom Course
DESCRIPTION:
URL:https://thecdlc.ca/event/parliamentary-procedure-zoom-course/
CATEGORIES:Workshops
END:VEVENT
END:VCALENDAR