BEGIN:VCALENDAR
VERSION:2.0
PRODID:-//Calgary &amp; District Labour Council - ECPv6.15.20//NONSGML v1.0//EN
CALSCALE:GREGORIAN
METHOD:PUBLISH
X-ORIGINAL-URL:https://thecdlc.ca
X-WR-CALDESC:Events for Calgary &amp; District Labour Council
REFRESH-INTERVAL;VALUE=DURATION:PT1H
X-Robots-Tag:noindex
X-PUBLISHED-TTL:PT1H
BEGIN:VTIMEZONE
TZID:UTC
BEGIN:STANDARD
TZOFFSETFROM:+0000
TZOFFSETTO:+0000
TZNAME:UTC
DTSTART:20200101T000000
END:STANDARD
END:VTIMEZONE
BEGIN:VEVENT
DTSTART;TZID=UTC:20210622T180000
DTEND;TZID=UTC:20210622T200000
DTSTAMP:20260420T050507
CREATED:20210329T221515Z
LAST-MODIFIED:20210329T221515Z
UID:9885-1624384800-1624392000@thecdlc.ca
SUMMARY:Inclusive Language Zoom Webinar
DESCRIPTION:
URL:https://thecdlc.ca/event/inclusive-language-zoom-webinar/
END:VEVENT
END:VCALENDAR