BEGIN:VCALENDAR
VERSION:2.0
PRODID:-//Calgary &amp; District Labour Council - ECPv6.15.20//NONSGML v1.0//EN
CALSCALE:GREGORIAN
METHOD:PUBLISH
X-ORIGINAL-URL:https://thecdlc.ca
X-WR-CALDESC:Events for Calgary &amp; District Labour Council
REFRESH-INTERVAL;VALUE=DURATION:PT1H
X-Robots-Tag:noindex
X-PUBLISHED-TTL:PT1H
BEGIN:VTIMEZONE
TZID:UTC
BEGIN:STANDARD
TZOFFSETFROM:+0000
TZOFFSETTO:+0000
TZNAME:UTC
DTSTART:20200101T000000
END:STANDARD
END:VTIMEZONE
BEGIN:VEVENT
DTSTART;TZID=UTC:20210504T190000
DTEND;TZID=UTC:20210504T203000
DTSTAMP:20260420T064808
CREATED:20210414T215747Z
LAST-MODIFIED:20210414T215747Z
UID:10072-1620154800-1620160200@thecdlc.ca
SUMMARY:Human Rights Webinar (AB & Canadian)
DESCRIPTION:
URL:https://thecdlc.ca/event/human-rights-webinar-ab-canadian/
END:VEVENT
END:VCALENDAR