BEGIN:VCALENDAR
VERSION:2.0
PRODID:-//Calgary &amp; District Labour Council - ECPv6.15.20//NONSGML v1.0//EN
CALSCALE:GREGORIAN
METHOD:PUBLISH
X-ORIGINAL-URL:https://thecdlc.ca
X-WR-CALDESC:Events for Calgary &amp; District Labour Council
REFRESH-INTERVAL;VALUE=DURATION:PT1H
X-Robots-Tag:noindex
X-PUBLISHED-TTL:PT1H
BEGIN:VTIMEZONE
TZID:UTC
BEGIN:STANDARD
TZOFFSETFROM:+0000
TZOFFSETTO:+0000
TZNAME:UTC
DTSTART:20200101T000000
END:STANDARD
END:VTIMEZONE
BEGIN:VEVENT
DTSTART;TZID=UTC:20210417T090000
DTEND;TZID=UTC:20210417T170000
DTSTAMP:20260420T081807
CREATED:20210126T191212Z
LAST-MODIFIED:20210414T215345Z
UID:9194-1618650000-1618678800@thecdlc.ca
SUMMARY:CANCELLED(Health & Safety Course)
DESCRIPTION:
URL:https://thecdlc.ca/event/health-safety-course-2/
END:VEVENT
END:VCALENDAR