BEGIN:VCALENDAR
VERSION:2.0
PRODID:-//Calgary &amp; District Labour Council - ECPv6.15.20//NONSGML v1.0//EN
CALSCALE:GREGORIAN
METHOD:PUBLISH
X-WR-CALNAME:Calgary &amp; District Labour Council
X-ORIGINAL-URL:https://thecdlc.ca
X-WR-CALDESC:Events for Calgary &amp; District Labour Council
REFRESH-INTERVAL;VALUE=DURATION:PT1H
X-Robots-Tag:noindex
X-PUBLISHED-TTL:PT1H
BEGIN:VTIMEZONE
TZID:UTC
BEGIN:STANDARD
TZOFFSETFROM:+0000
TZOFFSETTO:+0000
TZNAME:UTC
DTSTART:20200101T000000
END:STANDARD
END:VTIMEZONE
BEGIN:VEVENT
DTSTART;TZID=UTC:20210406T180000
DTEND;TZID=UTC:20210406T200000
DTSTAMP:20260420T083121
CREATED:20210303T183649Z
LAST-MODIFIED:20210303T184301Z
UID:9569-1617732000-1617739200@thecdlc.ca
SUMMARY:Zoom Webinar: Employment Insurance
DESCRIPTION:
URL:https://thecdlc.ca/event/zoom-webinar-employment-insurance/
CATEGORIES:Workshops
END:VEVENT
END:VCALENDAR