BEGIN:VCALENDAR
VERSION:2.0
PRODID:-//Calgary &amp; District Labour Council - ECPv6.15.20//NONSGML v1.0//EN
CALSCALE:GREGORIAN
METHOD:PUBLISH
X-ORIGINAL-URL:https://thecdlc.ca
X-WR-CALDESC:Events for Calgary &amp; District Labour Council
REFRESH-INTERVAL;VALUE=DURATION:PT1H
X-Robots-Tag:noindex
X-PUBLISHED-TTL:PT1H
BEGIN:VTIMEZONE
TZID:UTC
BEGIN:STANDARD
TZOFFSETFROM:+0000
TZOFFSETTO:+0000
TZNAME:UTC
DTSTART:20200101T000000
END:STANDARD
END:VTIMEZONE
BEGIN:VEVENT
DTSTART;TZID=UTC:20210330T180000
DTEND;TZID=UTC:20210330T200000
DTSTAMP:20260420T081806
CREATED:20210303T183231Z
LAST-MODIFIED:20210303T184221Z
UID:9567-1617127200-1617134400@thecdlc.ca
SUMMARY:Zoom Webinar: WCB/CPP Disability Benefit
DESCRIPTION:
URL:https://thecdlc.ca/event/zoom-webinar-wcb-cpp-disability-benefit/
CATEGORIES:Workshops
END:VEVENT
END:VCALENDAR