BEGIN:VCALENDAR
VERSION:2.0
PRODID:-//Calgary &amp; District Labour Council - ECPv6.15.20//NONSGML v1.0//EN
CALSCALE:GREGORIAN
METHOD:PUBLISH
X-ORIGINAL-URL:https://thecdlc.ca
X-WR-CALDESC:Events for Calgary &amp; District Labour Council
REFRESH-INTERVAL;VALUE=DURATION:PT1H
X-Robots-Tag:noindex
X-PUBLISHED-TTL:PT1H
BEGIN:VTIMEZONE
TZID:UTC
BEGIN:STANDARD
TZOFFSETFROM:+0000
TZOFFSETTO:+0000
TZNAME:UTC
DTSTART:20200101T000000
END:STANDARD
END:VTIMEZONE
BEGIN:VEVENT
DTSTART;TZID=UTC:20210201T190000
DTEND;TZID=UTC:20210201T203000
DTSTAMP:20260420T112200
CREATED:20210126T184031Z
LAST-MODIFIED:20210126T184246Z
UID:9161-1612206000-1612211400@thecdlc.ca
SUMMARY:Exec. Mtg.
DESCRIPTION:
URL:https://thecdlc.ca/event/exec-mtg/
END:VEVENT
END:VCALENDAR