BEGIN:VCALENDAR
VERSION:2.0
PRODID:-//Calgary &amp; District Labour Council - ECPv6.15.20//NONSGML v1.0//EN
CALSCALE:GREGORIAN
METHOD:PUBLISH
X-WR-CALNAME:Calgary &amp; District Labour Council
X-ORIGINAL-URL:https://thecdlc.ca
X-WR-CALDESC:Events for Calgary &amp; District Labour Council
REFRESH-INTERVAL;VALUE=DURATION:PT1H
X-Robots-Tag:noindex
X-PUBLISHED-TTL:PT1H
BEGIN:VTIMEZONE
TZID:UTC
BEGIN:STANDARD
TZOFFSETFROM:+0000
TZOFFSETTO:+0000
TZNAME:UTC
DTSTART:20190101T000000
END:STANDARD
END:VTIMEZONE
BEGIN:VEVENT
DTSTART;TZID=UTC:20201206T180000
DTEND;TZID=UTC:20201206T193000
DTSTAMP:20260420T143938
CREATED:20200224T222030Z
LAST-MODIFIED:20201125T221212Z
UID:3452-1607277600-1607283000@thecdlc.ca
SUMMARY:Dec. 6 Day of Remembrance + Action on Violence Against Women
DESCRIPTION:
URL:https://thecdlc.ca/event/dec-6-day-of-remembrance-action-on-violence-against-women/
CATEGORIES:Event
END:VEVENT
END:VCALENDAR