BEGIN:VCALENDAR
VERSION:2.0
PRODID:-//Calgary &amp; District Labour Council - ECPv6.15.20//NONSGML v1.0//EN
CALSCALE:GREGORIAN
METHOD:PUBLISH
X-ORIGINAL-URL:https://thecdlc.ca
X-WR-CALDESC:Events for Calgary &amp; District Labour Council
REFRESH-INTERVAL;VALUE=DURATION:PT1H
X-Robots-Tag:noindex
X-PUBLISHED-TTL:PT1H
BEGIN:VTIMEZONE
TZID:UTC
BEGIN:STANDARD
TZOFFSETFROM:+0000
TZOFFSETTO:+0000
TZNAME:UTC
DTSTART:20190101T000000
END:STANDARD
END:VTIMEZONE
BEGIN:VEVENT
DTSTART;TZID=UTC:20200907T110000
DTEND;TZID=UTC:20200907T140000
DTSTAMP:20260420T194707
CREATED:20200224T222136Z
LAST-MODIFIED:20200616T212553Z
UID:3455-1599476400-1599487200@thecdlc.ca
SUMMARY:Labour Day
DESCRIPTION:
URL:https://thecdlc.ca/event/labour-day-bbq-3/
CATEGORIES:Event
END:VEVENT
END:VCALENDAR