BEGIN:VCALENDAR
VERSION:2.0
PRODID:-//Calgary &amp; District Labour Council - ECPv6.15.20//NONSGML v1.0//EN
CALSCALE:GREGORIAN
METHOD:PUBLISH
X-ORIGINAL-URL:https://thecdlc.ca
X-WR-CALDESC:Events for Calgary &amp; District Labour Council
REFRESH-INTERVAL;VALUE=DURATION:PT1H
X-Robots-Tag:noindex
X-PUBLISHED-TTL:PT1H
BEGIN:VTIMEZONE
TZID:UTC
BEGIN:STANDARD
TZOFFSETFROM:+0000
TZOFFSETTO:+0000
TZNAME:UTC
DTSTART:20180101T000000
END:STANDARD
END:VTIMEZONE
BEGIN:VEVENT
DTSTART;TZID=UTC:20190313T080000
DTEND;TZID=UTC:20190313T170000
DTSTAMP:20260422T075000
CREATED:20190222T175052Z
LAST-MODIFIED:20190222T175052Z
UID:2264-1552464000-1552496400@thecdlc.ca
SUMMARY:HSAA Union Talk series
DESCRIPTION:
URL:https://thecdlc.ca/event/hsaa-union-talk-series/
LOCATION:HSAA Office – Edmonton\, 18410 100 Ave NW\, Edmonton\, Alberta\, Canada
CATEGORIES:Affiliate Events
END:VEVENT
END:VCALENDAR