BEGIN:VCALENDAR
VERSION:2.0
PRODID:-//Calgary &amp; District Labour Council - ECPv6.15.20//NONSGML v1.0//EN
CALSCALE:GREGORIAN
METHOD:PUBLISH
X-WR-CALNAME:Calgary &amp; District Labour Council
X-ORIGINAL-URL:https://thecdlc.ca
X-WR-CALDESC:Events for Calgary &amp; District Labour Council
REFRESH-INTERVAL;VALUE=DURATION:PT1H
X-Robots-Tag:noindex
X-PUBLISHED-TTL:PT1H
BEGIN:VTIMEZONE
TZID:UTC
BEGIN:STANDARD
TZOFFSETFROM:+0000
TZOFFSETTO:+0000
TZNAME:UTC
DTSTART:20180101T000000
END:STANDARD
END:VTIMEZONE
BEGIN:VEVENT
DTSTART;TZID=UTC:20190228T183000
DTEND;TZID=UTC:20190228T203000
DTSTAMP:20260422T074804
CREATED:20190222T174726Z
LAST-MODIFIED:20190222T174726Z
UID:2260-1551378600-1551385800@thecdlc.ca
SUMMARY:HSAA Union Talks Series
DESCRIPTION:
URL:https://thecdlc.ca/event/hsaa-union-talks-series/
LOCATION:HSAA Office\, 6160\, 333 96 Ave NE\, Calgary\, Alberta\, Canada
CATEGORIES:Affiliate Events
END:VEVENT
END:VCALENDAR